BEGIN:VCALENDAR
VERSION:2.0
PRODID:-//Baupal Park Farm - ECPv6.15.3//NONSGML v1.0//EN
CALSCALE:GREGORIAN
METHOD:PUBLISH
X-ORIGINAL-URL:https://baupalparkfarm.com.au
X-WR-CALDESC:Events for Baupal Park Farm
REFRESH-INTERVAL;VALUE=DURATION:PT1H
X-Robots-Tag:noindex
X-PUBLISHED-TTL:PT1H
BEGIN:VTIMEZONE
TZID:Australia/Brisbane
BEGIN:STANDARD
TZOFFSETFROM:+1000
TZOFFSETTO:+1000
TZNAME:AEST
DTSTART:20200101T000000
END:STANDARD
END:VTIMEZONE
BEGIN:VEVENT
DTSTART;TZID=Australia/Brisbane:20210801T070000
DTEND;TZID=Australia/Brisbane:20210801T120000
DTSTAMP:20260424T150848
CREATED:20210413T002719Z
LAST-MODIFIED:20210419T023345Z
UID:3243-1627801200-1627819200@baupalparkfarm.com.au
SUMMARY:Gympie Show Ground Markets
DESCRIPTION:Baupal Park Farm will be at the Gympie Show Ground Markets with our macadamia nuts\, macadamia products and our infamous ‘Macadamia Banana Bread’ and bespoke Artisan Macadamia Shortbread Biscuits. See you there! \nWhile we are there most weeks\, if you are making a special trip to purchase Baupal Park Farm products\, please confirm prior to make sure we will be there – or check our Facebook page.
URL:https://baupalparkfarm.com.au/event/gympie-show-ground-markets-2-2021-08-01/
LOCATION:Gympie Show Ground Markets\, Exhibition Road\, Gympie\, Queensland\, 4560\, Australia
CATEGORIES:Events,Gympie Show Ground Markets,Markets
ATTACH;FMTTYPE=image/jpeg:https://baupalparkfarm.com.au/wp-content/uploads/2019/06/baupal-park-farm-products3.jpg
END:VEVENT
BEGIN:VEVENT
DTSTART;TZID=Australia/Brisbane:20210718T070000
DTEND;TZID=Australia/Brisbane:20210718T120000
DTSTAMP:20260424T150848
CREATED:20210413T002719Z
LAST-MODIFIED:20210419T023344Z
UID:3242-1626591600-1626609600@baupalparkfarm.com.au
SUMMARY:Gympie Show Ground Markets
DESCRIPTION:Baupal Park Farm will be at the Gympie Show Ground Markets with our macadamia nuts\, macadamia products and our infamous ‘Macadamia Banana Bread’ and bespoke Artisan Macadamia Shortbread Biscuits. See you there! \nWhile we are there most weeks\, if you are making a special trip to purchase Baupal Park Farm products\, please confirm prior to make sure we will be there – or check our Facebook page.
URL:https://baupalparkfarm.com.au/event/gympie-show-ground-markets-2-2021-07-18/
LOCATION:Gympie Show Ground Markets\, Exhibition Road\, Gympie\, Queensland\, 4560\, Australia
CATEGORIES:Events,Gympie Show Ground Markets,Markets
ATTACH;FMTTYPE=image/jpeg:https://baupalparkfarm.com.au/wp-content/uploads/2019/06/baupal-park-farm-products3.jpg
END:VEVENT
BEGIN:VEVENT
DTSTART;TZID=Australia/Brisbane:20210704T070000
DTEND;TZID=Australia/Brisbane:20210704T120000
DTSTAMP:20260424T150848
CREATED:20210413T002719Z
LAST-MODIFIED:20210419T023342Z
UID:3241-1625382000-1625400000@baupalparkfarm.com.au
SUMMARY:Gympie Show Ground Markets
DESCRIPTION:Baupal Park Farm will be at the Gympie Show Ground Markets with our macadamia nuts\, macadamia products and our infamous ‘Macadamia Banana Bread’ and bespoke Artisan Macadamia Shortbread Biscuits. See you there! \nWhile we are there most weeks\, if you are making a special trip to purchase Baupal Park Farm products\, please confirm prior to make sure we will be there – or check our Facebook page.
URL:https://baupalparkfarm.com.au/event/gympie-show-ground-markets-2-2021-07-04/
LOCATION:Gympie Show Ground Markets\, Exhibition Road\, Gympie\, Queensland\, 4560\, Australia
CATEGORIES:Events,Gympie Show Ground Markets,Markets
ATTACH;FMTTYPE=image/jpeg:https://baupalparkfarm.com.au/wp-content/uploads/2019/06/baupal-park-farm-products3.jpg
END:VEVENT
BEGIN:VEVENT
DTSTART;TZID=Australia/Brisbane:20210620T070000
DTEND;TZID=Australia/Brisbane:20210620T120000
DTSTAMP:20260424T150848
CREATED:20210413T002719Z
LAST-MODIFIED:20210419T023341Z
UID:3240-1624172400-1624190400@baupalparkfarm.com.au
SUMMARY:Gympie Show Ground Markets
DESCRIPTION:Baupal Park Farm will be at the Gympie Show Ground Markets with our macadamia nuts\, macadamia products and our infamous ‘Macadamia Banana Bread’ and bespoke Artisan Macadamia Shortbread Biscuits. See you there! \nWhile we are there most weeks\, if you are making a special trip to purchase Baupal Park Farm products\, please confirm prior to make sure we will be there – or check our Facebook page.
URL:https://baupalparkfarm.com.au/event/gympie-show-ground-markets-2-2021-06-20/
LOCATION:Gympie Show Ground Markets\, Exhibition Road\, Gympie\, Queensland\, 4560\, Australia
CATEGORIES:Events,Gympie Show Ground Markets,Markets
ATTACH;FMTTYPE=image/jpeg:https://baupalparkfarm.com.au/wp-content/uploads/2019/06/baupal-park-farm-products3.jpg
END:VEVENT
BEGIN:VEVENT
DTSTART;TZID=Australia/Brisbane:20210606T070000
DTEND;TZID=Australia/Brisbane:20210606T120000
DTSTAMP:20260424T150848
CREATED:20210413T002719Z
LAST-MODIFIED:20210419T023339Z
UID:3239-1622962800-1622980800@baupalparkfarm.com.au
SUMMARY:Gympie Show Ground Markets
DESCRIPTION:Baupal Park Farm will be at the Gympie Show Ground Markets with our macadamia nuts\, macadamia products and our infamous ‘Macadamia Banana Bread’ and bespoke Artisan Macadamia Shortbread Biscuits. See you there! \nWhile we are there most weeks\, if you are making a special trip to purchase Baupal Park Farm products\, please confirm prior to make sure we will be there – or check our Facebook page.
URL:https://baupalparkfarm.com.au/event/gympie-show-ground-markets-2-2021-06-06/
LOCATION:Gympie Show Ground Markets\, Exhibition Road\, Gympie\, Queensland\, 4560\, Australia
CATEGORIES:Events,Gympie Show Ground Markets,Markets
ATTACH;FMTTYPE=image/jpeg:https://baupalparkfarm.com.au/wp-content/uploads/2019/06/baupal-park-farm-products3.jpg
END:VEVENT
BEGIN:VEVENT
DTSTART;TZID=Australia/Brisbane:20210509T070000
DTEND;TZID=Australia/Brisbane:20210509T120000
DTSTAMP:20260424T150848
CREATED:20210413T002719Z
LAST-MODIFIED:20210419T023334Z
UID:3236-1620543600-1620561600@baupalparkfarm.com.au
SUMMARY:Gympie Show Ground Markets
DESCRIPTION:Baupal Park Farm will be at the Gympie Show Ground Markets with our macadamia nuts\, macadamia products and our infamous ‘Macadamia Banana Bread’ and bespoke Artisan Macadamia Shortbread Biscuits. See you there! \nWhile we are there most weeks\, if you are making a special trip to purchase Baupal Park Farm products\, please confirm prior to make sure we will be there – or check our Facebook page.
URL:https://baupalparkfarm.com.au/event/gympie-show-ground-markets-2/
LOCATION:Gympie Show Ground Markets\, Exhibition Road\, Gympie\, Queensland\, 4560\, Australia
CATEGORIES:Events,Gympie Show Ground Markets,Markets
ATTACH;FMTTYPE=image/jpeg:https://baupalparkfarm.com.au/wp-content/uploads/2019/06/baupal-park-farm-products3.jpg
END:VEVENT
BEGIN:VEVENT
DTSTART;TZID=Australia/Brisbane:20201213T070000
DTEND;TZID=Australia/Brisbane:20201213T120000
DTSTAMP:20260424T150848
CREATED:20200929T045642Z
LAST-MODIFIED:20201111T031539Z
UID:3070-1607842800-1607860800@baupalparkfarm.com.au
SUMMARY:Gympie Show Ground Markets
DESCRIPTION:Baupal Park Farm will be at the Gympie Show Ground Markets with our macadamia nuts\, macadamia products and our infamous ‘Macadamia Banana Bread’ and bespoke Artisan Macadamia Shortbread Biscuits. See you there! \nWhile we are there most weeks\, if you are making a special trip to purchase Baupal Park Farm products\, please confirm prior to make sure we will be there – or check our Facebook page.
URL:https://baupalparkfarm.com.au/event/gympie-show-ground-markets-2020-12-27/
LOCATION:Gympie Show Ground Markets\, Exhibition Road\, Gympie\, Queensland\, 4560\, Australia
CATEGORIES:Gympie Show Ground Markets,Markets
ATTACH;FMTTYPE=image/jpeg:https://baupalparkfarm.com.au/wp-content/uploads/2019/06/baupal-park-farm-products3.jpg
END:VEVENT
BEGIN:VEVENT
DTSTART;TZID=Australia/Brisbane:20201129T070000
DTEND;TZID=Australia/Brisbane:20201129T120000
DTSTAMP:20260424T150848
CREATED:20200929T045642Z
LAST-MODIFIED:20201111T031525Z
UID:3069-1606633200-1606651200@baupalparkfarm.com.au
SUMMARY:Gympie Show Ground Markets
DESCRIPTION:Baupal Park Farm will be at the Gympie Show Ground Markets with our macadamia nuts\, macadamia products and our infamous ‘Macadamia Banana Bread’ and bespoke Artisan Macadamia Shortbread Biscuits. See you there! \nWhile we are there most weeks\, if you are making a special trip to purchase Baupal Park Farm products\, please confirm prior to make sure we will be there – or check our Facebook page.
URL:https://baupalparkfarm.com.au/event/gympie-show-ground-markets-2020-12-13/
LOCATION:Gympie Show Ground Markets\, Exhibition Road\, Gympie\, Queensland\, 4560\, Australia
CATEGORIES:Gympie Show Ground Markets,Markets
ATTACH;FMTTYPE=image/jpeg:https://baupalparkfarm.com.au/wp-content/uploads/2019/06/baupal-park-farm-products3.jpg
END:VEVENT
BEGIN:VEVENT
DTSTART;TZID=Australia/Brisbane:20201115T070000
DTEND;TZID=Australia/Brisbane:20201115T120000
DTSTAMP:20260424T150848
CREATED:20200929T045642Z
LAST-MODIFIED:20201111T031447Z
UID:3068-1605423600-1605441600@baupalparkfarm.com.au
SUMMARY:Gympie Show Ground Markets
DESCRIPTION:Baupal Park Farm will be at the Gympie Show Ground Markets with our macadamia nuts\, macadamia products and our infamous ‘Macadamia Banana Bread’ and bespoke Artisan Macadamia Shortbread Biscuits. See you there! \nWhile we are there most weeks\, if you are making a special trip to purchase Baupal Park Farm products\, please confirm prior to make sure we will be there – or check our Facebook page.
URL:https://baupalparkfarm.com.au/event/gympie-show-ground-markets-2020-11-22/
LOCATION:Gympie Show Ground Markets\, Exhibition Road\, Gympie\, Queensland\, 4560\, Australia
CATEGORIES:Gympie Show Ground Markets,Markets
ATTACH;FMTTYPE=image/jpeg:https://baupalparkfarm.com.au/wp-content/uploads/2019/06/baupal-park-farm-products3.jpg
END:VEVENT
BEGIN:VEVENT
DTSTART;TZID=Australia/Brisbane:20201108T070000
DTEND;TZID=Australia/Brisbane:20201108T120000
DTSTAMP:20260424T150848
CREATED:20200929T045642Z
LAST-MODIFIED:20200929T045642Z
UID:3067-1604818800-1604836800@baupalparkfarm.com.au
SUMMARY:Gympie Show Ground Markets
DESCRIPTION:Baupal Park Farm will be at the Gympie Show Ground Markets with our macadamia nuts\, macadamia products and our infamous ‘Macadamia Banana Bread’ and bespoke Artisan Macadamia Shortbread Biscuits. See you there! \nWhile we are there most weeks\, if you are making a special trip to purchase Baupal Park Farm products\, please confirm prior to make sure we will be there – or check our Facebook page.
URL:https://baupalparkfarm.com.au/event/gympie-show-ground-markets-2020-11-08/
LOCATION:Gympie Show Ground Markets\, Exhibition Road\, Gympie\, Queensland\, 4560\, Australia
CATEGORIES:Gympie Show Ground Markets,Markets
ATTACH;FMTTYPE=image/jpeg:https://baupalparkfarm.com.au/wp-content/uploads/2019/06/baupal-park-farm-products3.jpg
END:VEVENT
BEGIN:VEVENT
DTSTART;TZID=Australia/Brisbane:20201025T070000
DTEND;TZID=Australia/Brisbane:20201025T120000
DTSTAMP:20260424T150848
CREATED:20200929T045642Z
LAST-MODIFIED:20200929T045642Z
UID:3066-1603609200-1603627200@baupalparkfarm.com.au
SUMMARY:Gympie Show Ground Markets
DESCRIPTION:Baupal Park Farm will be at the Gympie Show Ground Markets with our macadamia nuts\, macadamia products and our infamous ‘Macadamia Banana Bread’ and bespoke Artisan Macadamia Shortbread Biscuits. See you there! \nWhile we are there most weeks\, if you are making a special trip to purchase Baupal Park Farm products\, please confirm prior to make sure we will be there – or check our Facebook page.
URL:https://baupalparkfarm.com.au/event/gympie-show-ground-markets-2020-10-25/
LOCATION:Gympie Show Ground Markets\, Exhibition Road\, Gympie\, Queensland\, 4560\, Australia
CATEGORIES:Gympie Show Ground Markets,Markets
ATTACH;FMTTYPE=image/jpeg:https://baupalparkfarm.com.au/wp-content/uploads/2019/06/baupal-park-farm-products3.jpg
END:VEVENT
BEGIN:VEVENT
DTSTART;TZID=Australia/Brisbane:20201011T070000
DTEND;TZID=Australia/Brisbane:20201011T120000
DTSTAMP:20260424T150848
CREATED:20200929T045642Z
LAST-MODIFIED:20200929T050040Z
UID:3052-1602399600-1602417600@baupalparkfarm.com.au
SUMMARY:Gympie Show Ground Markets
DESCRIPTION:Baupal Park Farm will be at the Gympie Show Ground Markets with our macadamia nuts\, macadamia products and our infamous ‘Macadamia Banana Bread’ and bespoke Artisan Macadamia Shortbread Biscuits. See you there! \nWhile we are there most weeks\, if you are making a special trip to purchase Baupal Park Farm products\, please confirm prior to make sure we will be there – or check our Facebook page.
URL:https://baupalparkfarm.com.au/event/gympie-show-ground-markets/
LOCATION:Gympie Show Ground Markets\, Exhibition Road\, Gympie\, Queensland\, 4560\, Australia
CATEGORIES:Gympie Show Ground Markets,Markets
ATTACH;FMTTYPE=image/jpeg:https://baupalparkfarm.com.au/wp-content/uploads/2019/06/baupal-park-farm-products3.jpg
END:VEVENT
END:VCALENDAR