BEGIN:VCALENDAR
VERSION:2.0
PRODID:-//Baupal Park Farm - ECPv6.15.3//NONSGML v1.0//EN
CALSCALE:GREGORIAN
METHOD:PUBLISH
X-ORIGINAL-URL:https://baupalparkfarm.com.au
X-WR-CALDESC:Events for Baupal Park Farm
REFRESH-INTERVAL;VALUE=DURATION:PT1H
X-Robots-Tag:noindex
X-PUBLISHED-TTL:PT1H
BEGIN:VTIMEZONE
TZID:Australia/Brisbane
BEGIN:STANDARD
TZOFFSETFROM:+1000
TZOFFSETTO:+1000
TZNAME:AEST
DTSTART:20190101T000000
END:STANDARD
END:VTIMEZONE
BEGIN:VEVENT
DTSTART;TZID=Australia/Brisbane:20190828T080000
DTEND;TZID=Australia/Brisbane:20190828T130000
DTSTAMP:20260425T055826
CREATED:20190627T070927Z
LAST-MODIFIED:20190811T234551Z
UID:2364-1566979200-1566997200@baupalparkfarm.com.au
SUMMARY:Mary Street Farmers Market
DESCRIPTION:Baupal Park Farm will be at the Mary Street Farmers Market in Gympie with our macadamia nuts\, macadamia products and our infamous ‘Macadamia Banana Bread’ and bespoke Artisan Macadamia Shortbread Biscuits. See you there! \nWhile we are there most weeks\, if you are making a special trip to purchase Baupal Park Farm products\, please confirm prior to make sure we will be there – or check our Facebook page.
URL:https://baupalparkfarm.com.au/event/mary-street-farmers-market-5/
LOCATION:Mary Street Markets – Gympie\, Mary Street\, Gympie\, Queensland\, Australia
CATEGORIES:Events,Markets,Mary Street Markets
ATTACH;FMTTYPE=image/jpeg:https://baupalparkfarm.com.au/wp-content/uploads/2019/06/baupal-park-farm-products3.jpg
END:VEVENT
BEGIN:VEVENT
DTSTART;TZID=Australia/Brisbane:20190822T060000
DTEND;TZID=Australia/Brisbane:20190822T130000
DTSTAMP:20260425T055826
CREATED:20190627T071735Z
LAST-MODIFIED:20190811T234609Z
UID:2373-1566453600-1566478800@baupalparkfarm.com.au
SUMMARY:Maryborough Markets
DESCRIPTION:Baupal Park Farm will be at the Maryborough Markets with our macadamia nuts\, macadamia products and our infamous ‘Macadamia Banana Bread’ and bespoke Artisan Macadamia Shortbread Biscuits. See you there! \nWhile we are there most weeks\, if you are making a special trip to purchase Baupal Park Farm products\, please confirm prior to make sure we will be there – or check our Facebook page.
URL:https://baupalparkfarm.com.au/event/maryborough-markets-4/
LOCATION:Maryborough Markets\, Adelaide & Ellena Street\, Maryborough\, Queensland\, Australia
CATEGORIES:Events,Markets,Maryborough Markets
ATTACH;FMTTYPE=image/jpeg:https://baupalparkfarm.com.au/wp-content/uploads/2019/06/markets2.jpg
END:VEVENT
BEGIN:VEVENT
DTSTART;TZID=Australia/Brisbane:20190821T080000
DTEND;TZID=Australia/Brisbane:20190821T130000
DTSTAMP:20260425T055826
CREATED:20190627T070814Z
LAST-MODIFIED:20190811T234621Z
UID:2362-1566374400-1566392400@baupalparkfarm.com.au
SUMMARY:Mary Street Farmers Market
DESCRIPTION:Baupal Park Farm will be at the Mary Street Farmers Market in Gympie with our macadamia nuts\, macadamia products and our infamous ‘Macadamia Banana Bread’ and bespoke Artisan Macadamia Shortbread Biscuits. See you there! \nWhile we are there most weeks\, if you are making a special trip to purchase Baupal Park Farm products\, please confirm prior to make sure we will be there – or check our Facebook page.
URL:https://baupalparkfarm.com.au/event/mary-street-farmers-market-4/
LOCATION:Mary Street Markets – Gympie\, Mary Street\, Gympie\, Queensland\, Australia
CATEGORIES:Events,Markets,Mary Street Markets
ATTACH;FMTTYPE=image/jpeg:https://baupalparkfarm.com.au/wp-content/uploads/2019/06/baupal-park-farm-products3.jpg
END:VEVENT
BEGIN:VEVENT
DTSTART;TZID=Australia/Brisbane:20190818T070000
DTEND;TZID=Australia/Brisbane:20190818T120000
DTSTAMP:20260425T055826
CREATED:20190807T053527Z
LAST-MODIFIED:20190811T232010Z
UID:2628-1566111600-1566129600@baupalparkfarm.com.au
SUMMARY:Gympie Museum Market
DESCRIPTION:Baupal Park Farm will be at the Gympie Museum Markets every 1st\, 3rd & 5th Sunday of the month with our macadamia nuts\, macadamia products and our infamous ‘Macadamia Banana Bread’ and bespoke Artisan Macadamia Shortbread Biscuits. See you there! \nWhile we are there most days when the markets are on\, if you are making a special trip to purchase Baupal Park Farm products\, please confirm prior to make sure we will be there – or check our Facebook page. \n  \n 
URL:https://baupalparkfarm.com.au/event/gympie-museum-market/
LOCATION:Gympie Museum Markets\, 215 Brisbane Road\, Gympie\, Queensland\, 4570\, Australia
CATEGORIES:Events,Gympie Museum Market,Markets
ATTACH;FMTTYPE=image/jpeg:https://baupalparkfarm.com.au/wp-content/uploads/2019/08/gympie-markets.jpg
END:VEVENT
BEGIN:VEVENT
DTSTART;TZID=Australia/Brisbane:20190815T060000
DTEND;TZID=Australia/Brisbane:20190815T130000
DTSTAMP:20260425T055826
CREATED:20190627T071637Z
LAST-MODIFIED:20190811T234632Z
UID:2372-1565848800-1565874000@baupalparkfarm.com.au
SUMMARY:Maryborough Markets
DESCRIPTION:Baupal Park Farm will be at the Maryborough Markets with our macadamia nuts\, macadamia products and our infamous ‘Macadamia Banana Bread’ and bespoke Artisan Macadamia Shortbread Biscuits. See you there! \nWhile we are there most weeks\, if you are making a special trip to purchase Baupal Park Farm products\, please confirm prior to make sure we will be there – or check our Facebook page.
URL:https://baupalparkfarm.com.au/event/maryborough-markets-3/
LOCATION:Maryborough Markets\, Adelaide & Ellena Street\, Maryborough\, Queensland\, Australia
CATEGORIES:Events,Markets,Maryborough Markets
ATTACH;FMTTYPE=image/jpeg:https://baupalparkfarm.com.au/wp-content/uploads/2019/06/markets2.jpg
END:VEVENT
BEGIN:VEVENT
DTSTART;TZID=Australia/Brisbane:20190814T080000
DTEND;TZID=Australia/Brisbane:20190814T130000
DTSTAMP:20260425T055826
CREATED:20190627T070651Z
LAST-MODIFIED:20190811T234644Z
UID:2360-1565769600-1565787600@baupalparkfarm.com.au
SUMMARY:Mary Street Farmers Market
DESCRIPTION:Baupal Park Farm will be at the Mary Street Farmers Market in Gympie with our macadamia nuts\, macadamia products and our infamous ‘Macadamia Banana Bread’ and bespoke Artisan Macadamia Shortbread Biscuits. See you there! \nWhile we are there most weeks\, if you are making a special trip to purchase Baupal Park Farm products\, please confirm prior to make sure we will be there – or check our Facebook page.
URL:https://baupalparkfarm.com.au/event/mary-street-farmers-market-3/
LOCATION:Mary Street Markets – Gympie\, Mary Street\, Gympie\, Queensland\, Australia
CATEGORIES:Events,Markets,Mary Street Markets
ATTACH;FMTTYPE=image/jpeg:https://baupalparkfarm.com.au/wp-content/uploads/2019/06/baupal-park-farm-products3.jpg
END:VEVENT
BEGIN:VEVENT
DTSTART;TZID=Australia/Brisbane:20190808T060000
DTEND;TZID=Australia/Brisbane:20190808T130000
DTSTAMP:20260425T055826
CREATED:20190627T071512Z
LAST-MODIFIED:20190704T032611Z
UID:2369-1565244000-1565269200@baupalparkfarm.com.au
SUMMARY:Maryborough Markets
DESCRIPTION:Baupal Park Farm will be at the Maryborough Markets with our macadamia nuts\, macadamia products and our infamous ‘Macadamia Banana Bread’ and bespoke Artisan Macadamia Shortbread Biscuits. See you there! \nWhile we are there most weeks\, if you are making a special trip to purchase Baupal Park Farm products\, please confirm prior to make sure we will be there – or check our Facebook page.
URL:https://baupalparkfarm.com.au/event/maryborough-markets-2/
LOCATION:Maryborough Markets\, Adelaide & Ellena Street\, Maryborough\, Queensland\, Australia
CATEGORIES:Events,Markets
ATTACH;FMTTYPE=image/jpeg:https://baupalparkfarm.com.au/wp-content/uploads/2019/06/markets2.jpg
END:VEVENT
BEGIN:VEVENT
DTSTART;TZID=Australia/Brisbane:20190807T080000
DTEND;TZID=Australia/Brisbane:20190807T130000
DTSTAMP:20260425T055826
CREATED:20190627T070538Z
LAST-MODIFIED:20190715T002322Z
UID:2358-1565164800-1565182800@baupalparkfarm.com.au
SUMMARY:Mary Street Farmers Market
DESCRIPTION:Baupal Park Farm will be at the Mary Street Farmers Market in Gympie with our macadamia nuts\, macadamia products and our infamous ‘Macadamia Banana Bread’ and bespoke Artisan Macadamia Shortbread Biscuits. See you there! \nWhile we are there most weeks\, if you are making a special trip to purchase Baupal Park Farm products\, please confirm prior to make sure we will be there – or check our Facebook page.
URL:https://baupalparkfarm.com.au/event/mary-street-farmers-market-2/
LOCATION:Mary Street Markets – Gympie\, Mary Street\, Gympie\, Queensland\, Australia
CATEGORIES:Events,Markets
ATTACH;FMTTYPE=image/jpeg:https://baupalparkfarm.com.au/wp-content/uploads/2019/06/baupal-park-farm-products3.jpg
END:VEVENT
BEGIN:VEVENT
DTSTART;TZID=Australia/Brisbane:20190801T060000
DTEND;TZID=Australia/Brisbane:20190801T130000
DTSTAMP:20260425T055826
CREATED:20190627T071416Z
LAST-MODIFIED:20190704T032620Z
UID:2366-1564639200-1564664400@baupalparkfarm.com.au
SUMMARY:Maryborough Markets
DESCRIPTION:Baupal Park Farm will be at the Maryborough Markets with our macadamia nuts\, macadamia products and our infamous ‘Macadamia Banana Bread’ and bespoke Artisan Macadamia Shortbread Biscuits. See you there! \nWhile we are there most weeks\, if you are making a special trip to purchase Baupal Park Farm products\, please confirm prior to make sure we will be there – or check our Facebook page.
URL:https://baupalparkfarm.com.au/event/maryborough-markets/
LOCATION:Maryborough Markets\, Adelaide & Ellena Street\, Maryborough\, Queensland\, Australia
CATEGORIES:Events,Markets
ATTACH;FMTTYPE=image/jpeg:https://baupalparkfarm.com.au/wp-content/uploads/2019/06/markets2.jpg
END:VEVENT
BEGIN:VEVENT
DTSTART;TZID=Australia/Brisbane:20190731T080000
DTEND;TZID=Australia/Brisbane:20190731T130000
DTSTAMP:20260425T055826
CREATED:20190627T070340Z
LAST-MODIFIED:20190715T002301Z
UID:2354-1564560000-1564578000@baupalparkfarm.com.au
SUMMARY:Mary Street Farmers Market
DESCRIPTION:Baupal Park Farm will be at the Mary Street Farmers Market in Gympie with our macadamia nuts\, macadamia products and our infamous ‘Macadamia Banana Bread’ and bespoke Artisan Macadamia Shortbread Biscuits. See you there! \nWhile we are there most weeks\, if you are making a special trip to purchase Baupal Park Farm products\, please confirm prior to make sure we will be there – or check our Facebook page.
URL:https://baupalparkfarm.com.au/event/mary-street-farmers-market/
LOCATION:Mary Street Markets – Gympie\, Mary Street\, Gympie\, Queensland\, Australia
CATEGORIES:Events,Markets
ATTACH;FMTTYPE=image/jpeg:https://baupalparkfarm.com.au/wp-content/uploads/2019/06/baupal-park-farm-products3.jpg
END:VEVENT
BEGIN:VEVENT
DTSTART;TZID=Australia/Brisbane:20190721T100000
DTEND;TZID=Australia/Brisbane:20190721T100000
DTSTAMP:20260425T055826
CREATED:20190715T011310Z
LAST-MODIFIED:20190715T020234Z
UID:2556-1563703200-1563703200@baupalparkfarm.com.au
SUMMARY:Regional Flavours
DESCRIPTION:Baupal Park Farm will be at Regional Flavours at South Bank in Brisbane this year\, with our macadamia nuts\, macadamia products and our infamous ‘Macadamia Banana Bread’ and bespoke Artisan Macadamia Shortbread Biscuits. See you there! \n10am – 5pm
URL:https://baupalparkfarm.com.au/event/regional-flavours-2019-07-21/
LOCATION:Regional Flavours\, South Bank Parklands\, South Brisbane\, Queensland\, 4101\, Australia
CATEGORIES:Events,Markets
ATTACH;FMTTYPE=image/jpeg:https://baupalparkfarm.com.au/wp-content/uploads/2019/07/RF2019-Stallholder-Talent-FBTwitter-Image-V3-FA.jpeg
END:VEVENT
BEGIN:VEVENT
DTSTART;TZID=Australia/Brisbane:20190720T100000
DTEND;TZID=Australia/Brisbane:20190720T100000
DTSTAMP:20260425T055826
CREATED:20190715T011310Z
LAST-MODIFIED:20190715T011310Z
UID:2552-1563616800-1563616800@baupalparkfarm.com.au
SUMMARY:Regional Flavours
DESCRIPTION:Baupal Park Farm will be at Regional Flavours at South Bank in Brisbane this year\, with our macadamia nuts\, macadamia products and our infamous ‘Macadamia Banana Bread’ and bespoke Artisan Macadamia Shortbread Biscuits. See you there! \n10am – 5pm
URL:https://baupalparkfarm.com.au/event/regional-flavours/
LOCATION:Regional Flavours\, South Bank Parklands\, South Brisbane\, Queensland\, 4101\, Australia
CATEGORIES:Events,Markets
ATTACH;FMTTYPE=image/jpeg:https://baupalparkfarm.com.au/wp-content/uploads/2019/07/RF2019-Stallholder-Talent-FBTwitter-Image-V3-FA.jpeg
END:VEVENT
END:VCALENDAR