BEGIN:VCALENDAR
VERSION:2.0
PRODID:-//Baupal Park Farm - ECPv6.15.3//NONSGML v1.0//EN
CALSCALE:GREGORIAN
METHOD:PUBLISH
X-ORIGINAL-URL:https://baupalparkfarm.com.au
X-WR-CALDESC:Events for Baupal Park Farm
REFRESH-INTERVAL;VALUE=DURATION:PT1H
X-Robots-Tag:noindex
X-PUBLISHED-TTL:PT1H
BEGIN:VTIMEZONE
TZID:Australia/Brisbane
BEGIN:STANDARD
TZOFFSETFROM:+1000
TZOFFSETTO:+1000
TZNAME:AEST
DTSTART:20210101T000000
END:STANDARD
END:VTIMEZONE
BEGIN:VEVENT
DTSTART;TZID=Australia/Brisbane:20210523T100000
DTEND;TZID=Australia/Brisbane:20210523T170000
DTSTAMP:20260424T162757
CREATED:20210419T021939Z
LAST-MODIFIED:20210419T021939Z
UID:3176-1621764000-1621789200@baupalparkfarm.com.au
SUMMARY:OPEN DAY
DESCRIPTION:Baupal Park Farm is an organic macadamia farm situated in Chatsworth. Established in 2018\, it has grown in reputation to produce delicious value-add products from its macadamia and organic vegetable crops. \nThe farm is unique in its approach to utilising natural microbe cultures to improve yields.\nCome and visit this unique property\, take a tour and learn about natural farming. \nCost : $10 per person.\nTime : Gates open at 10:00am with the farm tour from 11:00am\nWhere : 14 Meadows Lane\, Chatsworth.\nBooking : Pay at the gate but bookings essential on 0409 792 427. Maximum of 10 people per group booking.\nInformation : Covered shoes mandatory. Sun hats recommended. Bring a water bottle.
URL:https://baupalparkfarm.com.au/event/open-day/
LOCATION:Baupal Park Farm\, 14 Meadows Lane\, Chatsworth\, Queensland\, Australia
CATEGORIES:Events,KNF Workshops & Meetings,Open Days
ATTACH;FMTTYPE=image/jpeg:https://baupalparkfarm.com.au/wp-content/uploads/2019/07/baupal-park-farm-4.jpg
END:VEVENT
END:VCALENDAR