BEGIN:VCALENDAR
VERSION:2.0
PRODID:-//Baupal Park Farm - ECPv6.15.3//NONSGML v1.0//EN
CALSCALE:GREGORIAN
METHOD:PUBLISH
X-ORIGINAL-URL:https://baupalparkfarm.com.au
X-WR-CALDESC:Events for Baupal Park Farm
REFRESH-INTERVAL;VALUE=DURATION:PT1H
X-Robots-Tag:noindex
X-PUBLISHED-TTL:PT1H
BEGIN:VTIMEZONE
TZID:Australia/Brisbane
BEGIN:STANDARD
TZOFFSETFROM:+1000
TZOFFSETTO:+1000
TZNAME:AEST
DTSTART:20210101T000000
END:STANDARD
END:VTIMEZONE
BEGIN:VEVENT
DTSTART;TZID=Australia/Brisbane:20210814T070000
DTEND;TZID=Australia/Brisbane:20210814T120000
DTSTAMP:20260424T150820
CREATED:20210413T001856Z
LAST-MODIFIED:20210413T001856Z
UID:3217-1628924400-1628942400@baupalparkfarm.com.au
SUMMARY:Pomona Markets
DESCRIPTION:Baupal Park Farm will be at the Pomona Markets with our macadamia nuts\, macadamia products and our infamous ‘Macadamia Banana Bread’ and bespoke Artisan Macadamia Shortbread Biscuits. See you there! \nWhile we are there most weeks\, if you are making a special trip to purchase Baupal Park Farm products\, please confirm prior to make sure we will be there – or check our Facebook page.
URL:https://baupalparkfarm.com.au/event/pomona-markets-2-2021-08-14/
LOCATION:Pomona Markets\, Stan Topper Park\, 21\, Reserve St\, Pomona\, Queensland\, 4568\, Australia
CATEGORIES:Events,Markets,Pomona Markets
ATTACH;FMTTYPE=image/jpeg:https://baupalparkfarm.com.au/wp-content/uploads/2019/07/baupal-park-farm-products4.jpg
END:VEVENT
BEGIN:VEVENT
DTSTART;TZID=Australia/Brisbane:20210807T070000
DTEND;TZID=Australia/Brisbane:20210807T120000
DTSTAMP:20260424T150820
CREATED:20210413T001856Z
LAST-MODIFIED:20210413T001856Z
UID:3216-1628319600-1628337600@baupalparkfarm.com.au
SUMMARY:Pomona Markets
DESCRIPTION:Baupal Park Farm will be at the Pomona Markets with our macadamia nuts\, macadamia products and our infamous ‘Macadamia Banana Bread’ and bespoke Artisan Macadamia Shortbread Biscuits. See you there! \nWhile we are there most weeks\, if you are making a special trip to purchase Baupal Park Farm products\, please confirm prior to make sure we will be there – or check our Facebook page.
URL:https://baupalparkfarm.com.au/event/pomona-markets-2-2021-08-07/
LOCATION:Pomona Markets\, Stan Topper Park\, 21\, Reserve St\, Pomona\, Queensland\, 4568\, Australia
CATEGORIES:Events,Markets,Pomona Markets
ATTACH;FMTTYPE=image/jpeg:https://baupalparkfarm.com.au/wp-content/uploads/2019/07/baupal-park-farm-products4.jpg
END:VEVENT
BEGIN:VEVENT
DTSTART;TZID=Australia/Brisbane:20210805T060000
DTEND;TZID=Australia/Brisbane:20210805T130000
DTSTAMP:20260424T150820
CREATED:20210413T001612Z
LAST-MODIFIED:20210413T001612Z
UID:3193-1628143200-1628168400@baupalparkfarm.com.au
SUMMARY:Maryborough Markets
DESCRIPTION:Baupal Park Farm will be at the Maryborough Markets with our macadamia nuts\, macadamia products and our infamous ‘Macadamia Banana Bread’ and bespoke Artisan Macadamia Shortbread Biscuits. See you there! \nWhile we are there most weeks\, if you are making a special trip to purchase Baupal Park Farm products\, please confirm prior to make sure we will be there – or check our Facebook page.
URL:https://baupalparkfarm.com.au/event/maryborough-markets-8-2021-08-05/
LOCATION:Maryborough Markets\, Adelaide & Ellena Street\, Maryborough\, Queensland\, Australia
CATEGORIES:Events,Markets,Maryborough Markets
ATTACH;FMTTYPE=image/jpeg:https://baupalparkfarm.com.au/wp-content/uploads/2019/06/markets2.jpg
END:VEVENT
BEGIN:VEVENT
DTSTART;TZID=Australia/Brisbane:20210801T070000
DTEND;TZID=Australia/Brisbane:20210801T120000
DTSTAMP:20260424T150820
CREATED:20210413T002719Z
LAST-MODIFIED:20210419T023345Z
UID:3243-1627801200-1627819200@baupalparkfarm.com.au
SUMMARY:Gympie Show Ground Markets
DESCRIPTION:Baupal Park Farm will be at the Gympie Show Ground Markets with our macadamia nuts\, macadamia products and our infamous ‘Macadamia Banana Bread’ and bespoke Artisan Macadamia Shortbread Biscuits. See you there! \nWhile we are there most weeks\, if you are making a special trip to purchase Baupal Park Farm products\, please confirm prior to make sure we will be there – or check our Facebook page.
URL:https://baupalparkfarm.com.au/event/gympie-show-ground-markets-2-2021-08-01/
LOCATION:Gympie Show Ground Markets\, Exhibition Road\, Gympie\, Queensland\, 4560\, Australia
CATEGORIES:Events,Gympie Show Ground Markets,Markets
ATTACH;FMTTYPE=image/jpeg:https://baupalparkfarm.com.au/wp-content/uploads/2019/06/baupal-park-farm-products3.jpg
END:VEVENT
BEGIN:VEVENT
DTSTART;TZID=Australia/Brisbane:20210731T070000
DTEND;TZID=Australia/Brisbane:20210731T120000
DTSTAMP:20260424T150820
CREATED:20210413T001856Z
LAST-MODIFIED:20210413T001856Z
UID:3215-1627714800-1627732800@baupalparkfarm.com.au
SUMMARY:Pomona Markets
DESCRIPTION:Baupal Park Farm will be at the Pomona Markets with our macadamia nuts\, macadamia products and our infamous ‘Macadamia Banana Bread’ and bespoke Artisan Macadamia Shortbread Biscuits. See you there! \nWhile we are there most weeks\, if you are making a special trip to purchase Baupal Park Farm products\, please confirm prior to make sure we will be there – or check our Facebook page.
URL:https://baupalparkfarm.com.au/event/pomona-markets-2-2021-07-31/
LOCATION:Pomona Markets\, Stan Topper Park\, 21\, Reserve St\, Pomona\, Queensland\, 4568\, Australia
CATEGORIES:Events,Markets,Pomona Markets
ATTACH;FMTTYPE=image/jpeg:https://baupalparkfarm.com.au/wp-content/uploads/2019/07/baupal-park-farm-products4.jpg
END:VEVENT
BEGIN:VEVENT
DTSTART;TZID=Australia/Brisbane:20210724T070000
DTEND;TZID=Australia/Brisbane:20210724T120000
DTSTAMP:20260424T150820
CREATED:20210413T001856Z
LAST-MODIFIED:20210413T001856Z
UID:3214-1627110000-1627128000@baupalparkfarm.com.au
SUMMARY:Pomona Markets
DESCRIPTION:Baupal Park Farm will be at the Pomona Markets with our macadamia nuts\, macadamia products and our infamous ‘Macadamia Banana Bread’ and bespoke Artisan Macadamia Shortbread Biscuits. See you there! \nWhile we are there most weeks\, if you are making a special trip to purchase Baupal Park Farm products\, please confirm prior to make sure we will be there – or check our Facebook page.
URL:https://baupalparkfarm.com.au/event/pomona-markets-2-2021-07-24/
LOCATION:Pomona Markets\, Stan Topper Park\, 21\, Reserve St\, Pomona\, Queensland\, 4568\, Australia
CATEGORIES:Events,Markets,Pomona Markets
ATTACH;FMTTYPE=image/jpeg:https://baupalparkfarm.com.au/wp-content/uploads/2019/07/baupal-park-farm-products4.jpg
END:VEVENT
BEGIN:VEVENT
DTSTART;TZID=Australia/Brisbane:20210718T070000
DTEND;TZID=Australia/Brisbane:20210718T120000
DTSTAMP:20260424T150820
CREATED:20210413T002719Z
LAST-MODIFIED:20210419T023344Z
UID:3242-1626591600-1626609600@baupalparkfarm.com.au
SUMMARY:Gympie Show Ground Markets
DESCRIPTION:Baupal Park Farm will be at the Gympie Show Ground Markets with our macadamia nuts\, macadamia products and our infamous ‘Macadamia Banana Bread’ and bespoke Artisan Macadamia Shortbread Biscuits. See you there! \nWhile we are there most weeks\, if you are making a special trip to purchase Baupal Park Farm products\, please confirm prior to make sure we will be there – or check our Facebook page.
URL:https://baupalparkfarm.com.au/event/gympie-show-ground-markets-2-2021-07-18/
LOCATION:Gympie Show Ground Markets\, Exhibition Road\, Gympie\, Queensland\, 4560\, Australia
CATEGORIES:Events,Gympie Show Ground Markets,Markets
ATTACH;FMTTYPE=image/jpeg:https://baupalparkfarm.com.au/wp-content/uploads/2019/06/baupal-park-farm-products3.jpg
END:VEVENT
BEGIN:VEVENT
DTSTART;TZID=Australia/Brisbane:20210717T070000
DTEND;TZID=Australia/Brisbane:20210717T120000
DTSTAMP:20260424T150820
CREATED:20210413T001856Z
LAST-MODIFIED:20210413T001856Z
UID:3213-1626505200-1626523200@baupalparkfarm.com.au
SUMMARY:Pomona Markets
DESCRIPTION:Baupal Park Farm will be at the Pomona Markets with our macadamia nuts\, macadamia products and our infamous ‘Macadamia Banana Bread’ and bespoke Artisan Macadamia Shortbread Biscuits. See you there! \nWhile we are there most weeks\, if you are making a special trip to purchase Baupal Park Farm products\, please confirm prior to make sure we will be there – or check our Facebook page.
URL:https://baupalparkfarm.com.au/event/pomona-markets-2-2021-07-17/
LOCATION:Pomona Markets\, Stan Topper Park\, 21\, Reserve St\, Pomona\, Queensland\, 4568\, Australia
CATEGORIES:Events,Markets,Pomona Markets
ATTACH;FMTTYPE=image/jpeg:https://baupalparkfarm.com.au/wp-content/uploads/2019/07/baupal-park-farm-products4.jpg
END:VEVENT
BEGIN:VEVENT
DTSTART;TZID=Australia/Brisbane:20210710T070000
DTEND;TZID=Australia/Brisbane:20210710T120000
DTSTAMP:20260424T150820
CREATED:20210413T001856Z
LAST-MODIFIED:20210413T001856Z
UID:3212-1625900400-1625918400@baupalparkfarm.com.au
SUMMARY:Pomona Markets
DESCRIPTION:Baupal Park Farm will be at the Pomona Markets with our macadamia nuts\, macadamia products and our infamous ‘Macadamia Banana Bread’ and bespoke Artisan Macadamia Shortbread Biscuits. See you there! \nWhile we are there most weeks\, if you are making a special trip to purchase Baupal Park Farm products\, please confirm prior to make sure we will be there – or check our Facebook page.
URL:https://baupalparkfarm.com.au/event/pomona-markets-2-2021-07-10/
LOCATION:Pomona Markets\, Stan Topper Park\, 21\, Reserve St\, Pomona\, Queensland\, 4568\, Australia
CATEGORIES:Events,Markets,Pomona Markets
ATTACH;FMTTYPE=image/jpeg:https://baupalparkfarm.com.au/wp-content/uploads/2019/07/baupal-park-farm-products4.jpg
END:VEVENT
BEGIN:VEVENT
DTSTART;TZID=Australia/Brisbane:20210704T070000
DTEND;TZID=Australia/Brisbane:20210704T120000
DTSTAMP:20260424T150820
CREATED:20210413T002719Z
LAST-MODIFIED:20210419T023342Z
UID:3241-1625382000-1625400000@baupalparkfarm.com.au
SUMMARY:Gympie Show Ground Markets
DESCRIPTION:Baupal Park Farm will be at the Gympie Show Ground Markets with our macadamia nuts\, macadamia products and our infamous ‘Macadamia Banana Bread’ and bespoke Artisan Macadamia Shortbread Biscuits. See you there! \nWhile we are there most weeks\, if you are making a special trip to purchase Baupal Park Farm products\, please confirm prior to make sure we will be there – or check our Facebook page.
URL:https://baupalparkfarm.com.au/event/gympie-show-ground-markets-2-2021-07-04/
LOCATION:Gympie Show Ground Markets\, Exhibition Road\, Gympie\, Queensland\, 4560\, Australia
CATEGORIES:Events,Gympie Show Ground Markets,Markets
ATTACH;FMTTYPE=image/jpeg:https://baupalparkfarm.com.au/wp-content/uploads/2019/06/baupal-park-farm-products3.jpg
END:VEVENT
BEGIN:VEVENT
DTSTART;TZID=Australia/Brisbane:20210703T070000
DTEND;TZID=Australia/Brisbane:20210703T120000
DTSTAMP:20260424T150820
CREATED:20210413T001856Z
LAST-MODIFIED:20210413T001856Z
UID:3211-1625295600-1625313600@baupalparkfarm.com.au
SUMMARY:Pomona Markets
DESCRIPTION:Baupal Park Farm will be at the Pomona Markets with our macadamia nuts\, macadamia products and our infamous ‘Macadamia Banana Bread’ and bespoke Artisan Macadamia Shortbread Biscuits. See you there! \nWhile we are there most weeks\, if you are making a special trip to purchase Baupal Park Farm products\, please confirm prior to make sure we will be there – or check our Facebook page.
URL:https://baupalparkfarm.com.au/event/pomona-markets-2-2021-07-03/
LOCATION:Pomona Markets\, Stan Topper Park\, 21\, Reserve St\, Pomona\, Queensland\, 4568\, Australia
CATEGORIES:Events,Markets,Pomona Markets
ATTACH;FMTTYPE=image/jpeg:https://baupalparkfarm.com.au/wp-content/uploads/2019/07/baupal-park-farm-products4.jpg
END:VEVENT
BEGIN:VEVENT
DTSTART;TZID=Australia/Brisbane:20210701T060000
DTEND;TZID=Australia/Brisbane:20210701T130000
DTSTAMP:20260424T150820
CREATED:20210413T001612Z
LAST-MODIFIED:20210413T001612Z
UID:3192-1625119200-1625144400@baupalparkfarm.com.au
SUMMARY:Maryborough Markets
DESCRIPTION:Baupal Park Farm will be at the Maryborough Markets with our macadamia nuts\, macadamia products and our infamous ‘Macadamia Banana Bread’ and bespoke Artisan Macadamia Shortbread Biscuits. See you there! \nWhile we are there most weeks\, if you are making a special trip to purchase Baupal Park Farm products\, please confirm prior to make sure we will be there – or check our Facebook page.
URL:https://baupalparkfarm.com.au/event/maryborough-markets-8-2021-07-01/
LOCATION:Maryborough Markets\, Adelaide & Ellena Street\, Maryborough\, Queensland\, Australia
CATEGORIES:Events,Markets,Maryborough Markets
ATTACH;FMTTYPE=image/jpeg:https://baupalparkfarm.com.au/wp-content/uploads/2019/06/markets2.jpg
END:VEVENT
BEGIN:VEVENT
DTSTART;TZID=Australia/Brisbane:20210626T070000
DTEND;TZID=Australia/Brisbane:20210626T120000
DTSTAMP:20260424T150820
CREATED:20210413T001856Z
LAST-MODIFIED:20210413T001856Z
UID:3210-1624690800-1624708800@baupalparkfarm.com.au
SUMMARY:Pomona Markets
DESCRIPTION:Baupal Park Farm will be at the Pomona Markets with our macadamia nuts\, macadamia products and our infamous ‘Macadamia Banana Bread’ and bespoke Artisan Macadamia Shortbread Biscuits. See you there! \nWhile we are there most weeks\, if you are making a special trip to purchase Baupal Park Farm products\, please confirm prior to make sure we will be there – or check our Facebook page.
URL:https://baupalparkfarm.com.au/event/pomona-markets-2-2021-06-26/
LOCATION:Pomona Markets\, Stan Topper Park\, 21\, Reserve St\, Pomona\, Queensland\, 4568\, Australia
CATEGORIES:Events,Markets,Pomona Markets
ATTACH;FMTTYPE=image/jpeg:https://baupalparkfarm.com.au/wp-content/uploads/2019/07/baupal-park-farm-products4.jpg
END:VEVENT
BEGIN:VEVENT
DTSTART;TZID=Australia/Brisbane:20210620T070000
DTEND;TZID=Australia/Brisbane:20210620T120000
DTSTAMP:20260424T150820
CREATED:20210413T002719Z
LAST-MODIFIED:20210419T023341Z
UID:3240-1624172400-1624190400@baupalparkfarm.com.au
SUMMARY:Gympie Show Ground Markets
DESCRIPTION:Baupal Park Farm will be at the Gympie Show Ground Markets with our macadamia nuts\, macadamia products and our infamous ‘Macadamia Banana Bread’ and bespoke Artisan Macadamia Shortbread Biscuits. See you there! \nWhile we are there most weeks\, if you are making a special trip to purchase Baupal Park Farm products\, please confirm prior to make sure we will be there – or check our Facebook page.
URL:https://baupalparkfarm.com.au/event/gympie-show-ground-markets-2-2021-06-20/
LOCATION:Gympie Show Ground Markets\, Exhibition Road\, Gympie\, Queensland\, 4560\, Australia
CATEGORIES:Events,Gympie Show Ground Markets,Markets
ATTACH;FMTTYPE=image/jpeg:https://baupalparkfarm.com.au/wp-content/uploads/2019/06/baupal-park-farm-products3.jpg
END:VEVENT
BEGIN:VEVENT
DTSTART;TZID=Australia/Brisbane:20210619T070000
DTEND;TZID=Australia/Brisbane:20210619T120000
DTSTAMP:20260424T150820
CREATED:20210413T001856Z
LAST-MODIFIED:20210413T001856Z
UID:3209-1624086000-1624104000@baupalparkfarm.com.au
SUMMARY:Pomona Markets
DESCRIPTION:Baupal Park Farm will be at the Pomona Markets with our macadamia nuts\, macadamia products and our infamous ‘Macadamia Banana Bread’ and bespoke Artisan Macadamia Shortbread Biscuits. See you there! \nWhile we are there most weeks\, if you are making a special trip to purchase Baupal Park Farm products\, please confirm prior to make sure we will be there – or check our Facebook page.
URL:https://baupalparkfarm.com.au/event/pomona-markets-2-2021-06-19/
LOCATION:Pomona Markets\, Stan Topper Park\, 21\, Reserve St\, Pomona\, Queensland\, 4568\, Australia
CATEGORIES:Events,Markets,Pomona Markets
ATTACH;FMTTYPE=image/jpeg:https://baupalparkfarm.com.au/wp-content/uploads/2019/07/baupal-park-farm-products4.jpg
END:VEVENT
BEGIN:VEVENT
DTSTART;TZID=Australia/Brisbane:20210612T070000
DTEND;TZID=Australia/Brisbane:20210612T120000
DTSTAMP:20260424T150820
CREATED:20210413T001856Z
LAST-MODIFIED:20210413T001856Z
UID:3208-1623481200-1623499200@baupalparkfarm.com.au
SUMMARY:Pomona Markets
DESCRIPTION:Baupal Park Farm will be at the Pomona Markets with our macadamia nuts\, macadamia products and our infamous ‘Macadamia Banana Bread’ and bespoke Artisan Macadamia Shortbread Biscuits. See you there! \nWhile we are there most weeks\, if you are making a special trip to purchase Baupal Park Farm products\, please confirm prior to make sure we will be there – or check our Facebook page.
URL:https://baupalparkfarm.com.au/event/pomona-markets-2-2021-06-12/
LOCATION:Pomona Markets\, Stan Topper Park\, 21\, Reserve St\, Pomona\, Queensland\, 4568\, Australia
CATEGORIES:Events,Markets,Pomona Markets
ATTACH;FMTTYPE=image/jpeg:https://baupalparkfarm.com.au/wp-content/uploads/2019/07/baupal-park-farm-products4.jpg
END:VEVENT
BEGIN:VEVENT
DTSTART;TZID=Australia/Brisbane:20210606T070000
DTEND;TZID=Australia/Brisbane:20210606T120000
DTSTAMP:20260424T150820
CREATED:20210413T002719Z
LAST-MODIFIED:20210419T023339Z
UID:3239-1622962800-1622980800@baupalparkfarm.com.au
SUMMARY:Gympie Show Ground Markets
DESCRIPTION:Baupal Park Farm will be at the Gympie Show Ground Markets with our macadamia nuts\, macadamia products and our infamous ‘Macadamia Banana Bread’ and bespoke Artisan Macadamia Shortbread Biscuits. See you there! \nWhile we are there most weeks\, if you are making a special trip to purchase Baupal Park Farm products\, please confirm prior to make sure we will be there – or check our Facebook page.
URL:https://baupalparkfarm.com.au/event/gympie-show-ground-markets-2-2021-06-06/
LOCATION:Gympie Show Ground Markets\, Exhibition Road\, Gympie\, Queensland\, 4560\, Australia
CATEGORIES:Events,Gympie Show Ground Markets,Markets
ATTACH;FMTTYPE=image/jpeg:https://baupalparkfarm.com.au/wp-content/uploads/2019/06/baupal-park-farm-products3.jpg
END:VEVENT
BEGIN:VEVENT
DTSTART;TZID=Australia/Brisbane:20210605T070000
DTEND;TZID=Australia/Brisbane:20210605T120000
DTSTAMP:20260424T150820
CREATED:20210413T001856Z
LAST-MODIFIED:20210413T001856Z
UID:3207-1622876400-1622894400@baupalparkfarm.com.au
SUMMARY:Pomona Markets
DESCRIPTION:Baupal Park Farm will be at the Pomona Markets with our macadamia nuts\, macadamia products and our infamous ‘Macadamia Banana Bread’ and bespoke Artisan Macadamia Shortbread Biscuits. See you there! \nWhile we are there most weeks\, if you are making a special trip to purchase Baupal Park Farm products\, please confirm prior to make sure we will be there – or check our Facebook page.
URL:https://baupalparkfarm.com.au/event/pomona-markets-2-2021-06-05/
LOCATION:Pomona Markets\, Stan Topper Park\, 21\, Reserve St\, Pomona\, Queensland\, 4568\, Australia
CATEGORIES:Events,Markets,Pomona Markets
ATTACH;FMTTYPE=image/jpeg:https://baupalparkfarm.com.au/wp-content/uploads/2019/07/baupal-park-farm-products4.jpg
END:VEVENT
BEGIN:VEVENT
DTSTART;TZID=Australia/Brisbane:20210603T060000
DTEND;TZID=Australia/Brisbane:20210603T130000
DTSTAMP:20260424T150820
CREATED:20210413T001612Z
LAST-MODIFIED:20210413T001612Z
UID:3191-1622700000-1622725200@baupalparkfarm.com.au
SUMMARY:Maryborough Markets
DESCRIPTION:Baupal Park Farm will be at the Maryborough Markets with our macadamia nuts\, macadamia products and our infamous ‘Macadamia Banana Bread’ and bespoke Artisan Macadamia Shortbread Biscuits. See you there! \nWhile we are there most weeks\, if you are making a special trip to purchase Baupal Park Farm products\, please confirm prior to make sure we will be there – or check our Facebook page.
URL:https://baupalparkfarm.com.au/event/maryborough-markets-8-2021-06-03/
LOCATION:Maryborough Markets\, Adelaide & Ellena Street\, Maryborough\, Queensland\, Australia
CATEGORIES:Events,Markets,Maryborough Markets
ATTACH;FMTTYPE=image/jpeg:https://baupalparkfarm.com.au/wp-content/uploads/2019/06/markets2.jpg
END:VEVENT
BEGIN:VEVENT
DTSTART;TZID=Australia/Brisbane:20210530T080000
DTEND;TZID=Australia/Brisbane:20210530T150000
DTSTAMP:20260424T150820
CREATED:20210528T055341Z
LAST-MODIFIED:20210528T055341Z
UID:3276-1622361600-1622386800@baupalparkfarm.com.au
SUMMARY:Goomeri Pumpkin Festival
DESCRIPTION:Baupal Park Farm will be at the Goomeri Pumpkin Festival with our macadamia nuts\, macadamia products and our infamous ‘Macadamia Banana Bread’ and bespoke Artisan Macadamia Shortbread Biscuits. See you there! \nWhile we are there most weeks\, if you are making a special trip to purchase Baupal Park Farm products\, please confirm prior to make sure we will be there – or check our Facebook page.
URL:https://baupalparkfarm.com.au/event/goomeri-pumpkin-festival/
LOCATION:Goomeri\, Goomeri\, Queensland\, Australia
CATEGORIES:Events,Markets
ATTACH;FMTTYPE=image/jpeg:https://baupalparkfarm.com.au/wp-content/uploads/2019/07/baupal-park-farm-products4.jpg
END:VEVENT
BEGIN:VEVENT
DTSTART;TZID=Australia/Brisbane:20210529T070000
DTEND;TZID=Australia/Brisbane:20210529T120000
DTSTAMP:20260424T150820
CREATED:20210413T001856Z
LAST-MODIFIED:20210413T001856Z
UID:3206-1622271600-1622289600@baupalparkfarm.com.au
SUMMARY:Pomona Markets
DESCRIPTION:Baupal Park Farm will be at the Pomona Markets with our macadamia nuts\, macadamia products and our infamous ‘Macadamia Banana Bread’ and bespoke Artisan Macadamia Shortbread Biscuits. See you there! \nWhile we are there most weeks\, if you are making a special trip to purchase Baupal Park Farm products\, please confirm prior to make sure we will be there – or check our Facebook page.
URL:https://baupalparkfarm.com.au/event/pomona-markets-2-2021-05-29/
LOCATION:Pomona Markets\, Stan Topper Park\, 21\, Reserve St\, Pomona\, Queensland\, 4568\, Australia
CATEGORIES:Events,Markets,Pomona Markets
ATTACH;FMTTYPE=image/jpeg:https://baupalparkfarm.com.au/wp-content/uploads/2019/07/baupal-park-farm-products4.jpg
END:VEVENT
BEGIN:VEVENT
DTSTART;TZID=Australia/Brisbane:20210523T100000
DTEND;TZID=Australia/Brisbane:20210523T170000
DTSTAMP:20260424T150820
CREATED:20210419T021939Z
LAST-MODIFIED:20210419T021939Z
UID:3176-1621764000-1621789200@baupalparkfarm.com.au
SUMMARY:OPEN DAY
DESCRIPTION:Baupal Park Farm is an organic macadamia farm situated in Chatsworth. Established in 2018\, it has grown in reputation to produce delicious value-add products from its macadamia and organic vegetable crops. \nThe farm is unique in its approach to utilising natural microbe cultures to improve yields.\nCome and visit this unique property\, take a tour and learn about natural farming. \nCost : $10 per person.\nTime : Gates open at 10:00am with the farm tour from 11:00am\nWhere : 14 Meadows Lane\, Chatsworth.\nBooking : Pay at the gate but bookings essential on 0409 792 427. Maximum of 10 people per group booking.\nInformation : Covered shoes mandatory. Sun hats recommended. Bring a water bottle.
URL:https://baupalparkfarm.com.au/event/open-day/
LOCATION:Baupal Park Farm\, 14 Meadows Lane\, Chatsworth\, Queensland\, Australia
CATEGORIES:Events,KNF Workshops & Meetings,Open Days
ATTACH;FMTTYPE=image/jpeg:https://baupalparkfarm.com.au/wp-content/uploads/2019/07/baupal-park-farm-4.jpg
END:VEVENT
BEGIN:VEVENT
DTSTART;TZID=Australia/Brisbane:20210522T070000
DTEND;TZID=Australia/Brisbane:20210522T120000
DTSTAMP:20260424T150820
CREATED:20210413T001856Z
LAST-MODIFIED:20210413T001856Z
UID:3205-1621666800-1621684800@baupalparkfarm.com.au
SUMMARY:Pomona Markets
DESCRIPTION:Baupal Park Farm will be at the Pomona Markets with our macadamia nuts\, macadamia products and our infamous ‘Macadamia Banana Bread’ and bespoke Artisan Macadamia Shortbread Biscuits. See you there! \nWhile we are there most weeks\, if you are making a special trip to purchase Baupal Park Farm products\, please confirm prior to make sure we will be there – or check our Facebook page.
URL:https://baupalparkfarm.com.au/event/pomona-markets-2-2021-05-22/
LOCATION:Pomona Markets\, Stan Topper Park\, 21\, Reserve St\, Pomona\, Queensland\, 4568\, Australia
CATEGORIES:Events,Markets,Pomona Markets
ATTACH;FMTTYPE=image/jpeg:https://baupalparkfarm.com.au/wp-content/uploads/2019/07/baupal-park-farm-products4.jpg
END:VEVENT
BEGIN:VEVENT
DTSTART;TZID=Australia/Brisbane:20210520T080000
DTEND;TZID=Australia/Brisbane:20210522T170000
DTSTAMP:20260424T150820
CREATED:20210409T010546Z
LAST-MODIFIED:20210409T010546Z
UID:3186-1621497600-1621702800@baupalparkfarm.com.au
SUMMARY:Maryborough Show 20-22 May 2021
DESCRIPTION:
URL:https://baupalparkfarm.com.au/event/maryborough-show-20-22-may-2021/
LOCATION:Queensland
CATEGORIES:Events,Markets
ATTACH;FMTTYPE=image/jpeg:https://baupalparkfarm.com.au/wp-content/uploads/2019/07/baupal-park-farm-products.jpg
END:VEVENT
BEGIN:VEVENT
DTSTART;TZID=Australia/Brisbane:20210515T070000
DTEND;TZID=Australia/Brisbane:20210515T120000
DTSTAMP:20260424T150820
CREATED:20210413T001856Z
LAST-MODIFIED:20210413T001856Z
UID:3204-1621062000-1621080000@baupalparkfarm.com.au
SUMMARY:Pomona Markets
DESCRIPTION:Baupal Park Farm will be at the Pomona Markets with our macadamia nuts\, macadamia products and our infamous ‘Macadamia Banana Bread’ and bespoke Artisan Macadamia Shortbread Biscuits. See you there! \nWhile we are there most weeks\, if you are making a special trip to purchase Baupal Park Farm products\, please confirm prior to make sure we will be there – or check our Facebook page.
URL:https://baupalparkfarm.com.au/event/pomona-markets-2-2021-05-15/
LOCATION:Pomona Markets\, Stan Topper Park\, 21\, Reserve St\, Pomona\, Queensland\, 4568\, Australia
CATEGORIES:Events,Markets,Pomona Markets
ATTACH;FMTTYPE=image/jpeg:https://baupalparkfarm.com.au/wp-content/uploads/2019/07/baupal-park-farm-products4.jpg
END:VEVENT
BEGIN:VEVENT
DTSTART;TZID=Australia/Brisbane:20210513T080000
DTEND;TZID=Australia/Brisbane:20210515T170000
DTSTAMP:20260424T150820
CREATED:20210409T010350Z
LAST-MODIFIED:20210409T010350Z
UID:3184-1620892800-1621098000@baupalparkfarm.com.au
SUMMARY:Gympie Show 13-15 May 2021
DESCRIPTION:
URL:https://baupalparkfarm.com.au/event/gympie-show-13-15-may-2021/
LOCATION:Queensland
CATEGORIES:Events,Markets
ATTACH;FMTTYPE=image/jpeg:https://baupalparkfarm.com.au/wp-content/uploads/2019/06/baupal-park-farm-products3.jpg
END:VEVENT
BEGIN:VEVENT
DTSTART;TZID=Australia/Brisbane:20210509T070000
DTEND;TZID=Australia/Brisbane:20210509T120000
DTSTAMP:20260424T150820
CREATED:20210413T002719Z
LAST-MODIFIED:20210419T023334Z
UID:3236-1620543600-1620561600@baupalparkfarm.com.au
SUMMARY:Gympie Show Ground Markets
DESCRIPTION:Baupal Park Farm will be at the Gympie Show Ground Markets with our macadamia nuts\, macadamia products and our infamous ‘Macadamia Banana Bread’ and bespoke Artisan Macadamia Shortbread Biscuits. See you there! \nWhile we are there most weeks\, if you are making a special trip to purchase Baupal Park Farm products\, please confirm prior to make sure we will be there – or check our Facebook page.
URL:https://baupalparkfarm.com.au/event/gympie-show-ground-markets-2/
LOCATION:Gympie Show Ground Markets\, Exhibition Road\, Gympie\, Queensland\, 4560\, Australia
CATEGORIES:Events,Gympie Show Ground Markets,Markets
ATTACH;FMTTYPE=image/jpeg:https://baupalparkfarm.com.au/wp-content/uploads/2019/06/baupal-park-farm-products3.jpg
END:VEVENT
BEGIN:VEVENT
DTSTART;TZID=Australia/Brisbane:20210508T070000
DTEND;TZID=Australia/Brisbane:20210508T120000
DTSTAMP:20260424T150820
CREATED:20210413T001856Z
LAST-MODIFIED:20210413T001856Z
UID:3203-1620457200-1620475200@baupalparkfarm.com.au
SUMMARY:Pomona Markets
DESCRIPTION:Baupal Park Farm will be at the Pomona Markets with our macadamia nuts\, macadamia products and our infamous ‘Macadamia Banana Bread’ and bespoke Artisan Macadamia Shortbread Biscuits. See you there! \nWhile we are there most weeks\, if you are making a special trip to purchase Baupal Park Farm products\, please confirm prior to make sure we will be there – or check our Facebook page.
URL:https://baupalparkfarm.com.au/event/pomona-markets-2-2021-05-08/
LOCATION:Pomona Markets\, Stan Topper Park\, 21\, Reserve St\, Pomona\, Queensland\, 4568\, Australia
CATEGORIES:Events,Markets,Pomona Markets
ATTACH;FMTTYPE=image/jpeg:https://baupalparkfarm.com.au/wp-content/uploads/2019/07/baupal-park-farm-products4.jpg
END:VEVENT
BEGIN:VEVENT
DTSTART;TZID=Australia/Brisbane:20210506T060000
DTEND;TZID=Australia/Brisbane:20210506T130000
DTSTAMP:20260424T150820
CREATED:20210413T001612Z
LAST-MODIFIED:20210413T001612Z
UID:3189-1620280800-1620306000@baupalparkfarm.com.au
SUMMARY:Maryborough Markets
DESCRIPTION:Baupal Park Farm will be at the Maryborough Markets with our macadamia nuts\, macadamia products and our infamous ‘Macadamia Banana Bread’ and bespoke Artisan Macadamia Shortbread Biscuits. See you there! \nWhile we are there most weeks\, if you are making a special trip to purchase Baupal Park Farm products\, please confirm prior to make sure we will be there – or check our Facebook page.
URL:https://baupalparkfarm.com.au/event/maryborough-markets-8/
LOCATION:Maryborough Markets\, Adelaide & Ellena Street\, Maryborough\, Queensland\, Australia
CATEGORIES:Events,Markets,Maryborough Markets
ATTACH;FMTTYPE=image/jpeg:https://baupalparkfarm.com.au/wp-content/uploads/2019/06/markets2.jpg
END:VEVENT
BEGIN:VEVENT
DTSTART;TZID=Australia/Brisbane:20210502T080000
DTEND;TZID=Australia/Brisbane:20210508T170000
DTSTAMP:20260424T150820
CREATED:20210409T010226Z
LAST-MODIFIED:20210409T010226Z
UID:3182-1619942400-1620493200@baupalparkfarm.com.au
SUMMARY:Beef Week Rockhampton 2-8 May 2021
DESCRIPTION:Products through “Buy From Bush” stall
URL:https://baupalparkfarm.com.au/event/beef-week-rockhampton-2-8-may-2021/
LOCATION:Queensland
CATEGORIES:Events,Markets
ATTACH;FMTTYPE=image/jpeg:https://baupalparkfarm.com.au/wp-content/uploads/2019/07/baupal-park-farm-products4.jpg
END:VEVENT
END:VCALENDAR